BEGIN:VCALENDAR
VERSION:2.0
PRODID:-//Kölner Frauengeschichtsverein e.V. - ECPv6.15.20//NONSGML v1.0//EN
CALSCALE:GREGORIAN
METHOD:PUBLISH
X-WR-CALNAME:Kölner Frauengeschichtsverein e.V.
X-ORIGINAL-URL:https://frauengeschichtsverein.de
X-WR-CALDESC:Veranstaltungen für Kölner Frauengeschichtsverein e.V.
REFRESH-INTERVAL;VALUE=DURATION:PT1H
X-Robots-Tag:noindex
X-PUBLISHED-TTL:PT1H
BEGIN:VTIMEZONE
TZID:Europe/Berlin
BEGIN:DAYLIGHT
TZOFFSETFROM:+0100
TZOFFSETTO:+0200
TZNAME:CEST
DTSTART:20230326T010000
END:DAYLIGHT
BEGIN:STANDARD
TZOFFSETFROM:+0200
TZOFFSETTO:+0100
TZNAME:CET
DTSTART:20231029T010000
END:STANDARD
BEGIN:DAYLIGHT
TZOFFSETFROM:+0100
TZOFFSETTO:+0200
TZNAME:CEST
DTSTART:20240331T010000
END:DAYLIGHT
BEGIN:STANDARD
TZOFFSETFROM:+0200
TZOFFSETTO:+0100
TZNAME:CET
DTSTART:20241027T010000
END:STANDARD
BEGIN:DAYLIGHT
TZOFFSETFROM:+0100
TZOFFSETTO:+0200
TZNAME:CEST
DTSTART:20250330T010000
END:DAYLIGHT
BEGIN:STANDARD
TZOFFSETFROM:+0200
TZOFFSETTO:+0100
TZNAME:CET
DTSTART:20251026T010000
END:STANDARD
END:VTIMEZONE
BEGIN:VEVENT
DTSTART;TZID=Europe/Berlin:20240810T140000
DTEND;TZID=Europe/Berlin:20240810T140000
DTSTAMP:20260425T133243
CREATED:20240715T114808Z
LAST-MODIFIED:20240715T133450Z
UID:10000114-1723298400-1723298400@frauengeschichtsverein.de
SUMMARY:Digital Utopia
DESCRIPTION:Konkrete und digitale Kunst im Frauenmuseum \nFibunacci-Zahlen von Rune Mields\nDie Ausstellung versteht sich als geschlechterkritischen Beitrag zur digitalen Transformation und fragt nach fast vergessenen Pionierinnen der Informatik und Digitalisierung. Die Arbeiten der Konkreten Künstlerin Rune Mields (Köln)\, der Pionierin computerbasierter Kunst Vera Molmar und der Cyberfeministin Cornelia Sollfrank beschäftigen sich auf eigene Weise mit Zahlensystemen\, Algorithmen und der Künstlichen Intelligenz.\nMuseumsführerin: Verena Stark \n  \n  \n  \n  \nKosten: 12 € für die Führung zzgl. ermäßigter Eintritt 6 €\nAnmeldung erforderlich: 0221 248265\nOrt: Im Krausfeld 10\, 53111 Bonn (Altstadt) \nDigitaler Kartenkauf: https://www.qultor.de/veranstaltungen…
URL:https://frauengeschichtsverein.de/termin/digital-utopia/
LOCATION:Frauenmuseum Bonn\, Im Krausfeld 10\, Bonn\, NRW\, 53111\, Deutschland
CATEGORIES:Museumsführung,Nur mit Voranmeldung
END:VEVENT
END:VCALENDAR