BEGIN:VCALENDAR
VERSION:2.0
PRODID:-//Kölner Frauengeschichtsverein e.V. - ECPv6.15.20//NONSGML v1.0//EN
CALSCALE:GREGORIAN
METHOD:PUBLISH
X-WR-CALNAME:Kölner Frauengeschichtsverein e.V.
X-ORIGINAL-URL:https://frauengeschichtsverein.de
X-WR-CALDESC:Veranstaltungen für Kölner Frauengeschichtsverein e.V.
REFRESH-INTERVAL;VALUE=DURATION:PT1H
X-Robots-Tag:noindex
X-PUBLISHED-TTL:PT1H
BEGIN:VTIMEZONE
TZID:Europe/Berlin
BEGIN:DAYLIGHT
TZOFFSETFROM:+0100
TZOFFSETTO:+0200
TZNAME:CEST
DTSTART:20230326T010000
END:DAYLIGHT
BEGIN:STANDARD
TZOFFSETFROM:+0200
TZOFFSETTO:+0100
TZNAME:CET
DTSTART:20231029T010000
END:STANDARD
BEGIN:DAYLIGHT
TZOFFSETFROM:+0100
TZOFFSETTO:+0200
TZNAME:CEST
DTSTART:20240331T010000
END:DAYLIGHT
BEGIN:STANDARD
TZOFFSETFROM:+0200
TZOFFSETTO:+0100
TZNAME:CET
DTSTART:20241027T010000
END:STANDARD
BEGIN:DAYLIGHT
TZOFFSETFROM:+0100
TZOFFSETTO:+0200
TZNAME:CEST
DTSTART:20250330T010000
END:DAYLIGHT
BEGIN:STANDARD
TZOFFSETFROM:+0200
TZOFFSETTO:+0100
TZNAME:CET
DTSTART:20251026T010000
END:STANDARD
BEGIN:DAYLIGHT
TZOFFSETFROM:+0100
TZOFFSETTO:+0200
TZNAME:CEST
DTSTART:20260329T010000
END:DAYLIGHT
BEGIN:STANDARD
TZOFFSETFROM:+0200
TZOFFSETTO:+0100
TZNAME:CET
DTSTART:20261025T010000
END:STANDARD
END:VTIMEZONE
BEGIN:VEVENT
DTSTART;VALUE=DATE:20241202
DTEND;VALUE=DATE:20250128
DTSTAMP:20260425T002837
CREATED:20240715T141139Z
LAST-MODIFIED:20241205T143945Z
UID:10000127-1733097600-1738022399@frauengeschichtsverein.de
SUMMARY:(Historische) Frauen in Graphic Novels
DESCRIPTION:Ausstellung zu Frauenbildern in modernen Comics\n \nVerlängerung bis zum 27. Januar 2025 \nAufgrund des grossen Zuspruchs wurde die Ausstellung verlängert! \nGraphic Novels können experimentelle Annäherungen an bekannte und unbekanntere Frauenbiografien sein. Diese “graphischen Romane“ bedienen sich vieler künstlerischer Elemente\, sie haben oft eine literarische und aufklärerische Intention. Die Ausstellung des Kölner Frauengeschichtsvereins\, kuratiert von Irene Franken\, stellt 14 Werke mit verschiedenen graphischen Stilen vor.  Zu sehen sind feministische Interventionen (Guerrilla Girls)\, Arbeitskampf (Radium Girls)\, künstlerische Innovation (Kusama)\, Reisen und psychische Krisen (Annemarie Schwarzenbach)\, Verfolgung (Anne Frank\, Marjane Satrapi) oder neuere Zeitgeschichte (Angela Davis). \nDr. Diana Siebert list Gastgeberin im Bezirksrathaus Nippes. \nOrt: Bezirksrathaus Nippes\, Neusser Str. 450
URL:https://frauengeschichtsverein.de/termin/frauenbildern-in-modernen-comics/
LOCATION:Bezirksrathaus Nippes\, Neusser Str. 450\, Köln\, 50733
CATEGORIES:Ausstellung,Barrierefrei,Eintritt frei
END:VEVENT
BEGIN:VEVENT
DTSTART;TZID=Europe/Berlin:20241207T140000
DTEND;TZID=Europe/Berlin:20241207T153000
DTSTAMP:20260425T002837
CREATED:20241023T111522Z
LAST-MODIFIED:20241023T111552Z
UID:10000136-1733580000-1733585400@frauengeschichtsverein.de
SUMMARY:Neue Präsentation der Gegenwartskunst im Museum Ludwig
DESCRIPTION:Über den Wert der Zeit \nZum vierten Mal zeigt das Museum Ludwig eine Neupräsentation seiner Sammlung. Dr. Barbara Engelbach betrachtet die zeitgenössische Kunst unter wechselnden thematischen Schwerpunkten. Ihr Ausgangspunkt ist Walter Benjamins „Engel der Geschichte“\, ein Denkbild für eine kritische Geschichtsschreibung. Es werden Werke gezeigt\, die Zeitläufe in unterschiedlichen Macht- und\nOhnmachtspositionen beinhalten. Die Führung thematisiert die vielfältigen Ansätze von Künstlerinnen\, sich mit dem Phänomen der Zeit bzw. ihrer Interpretation und der Geschichtsschreibung als Machtinstrument auseinanderzusetzen.\nGästeführerin: Anja Reincke \nTreffpunkt: Foyer des Museums Ludwig\nKosten: 12 € zzgl. Museumseintritts\nTickets über https://www.qultor.de/veranstaltungen/ueber-den-wert-der-zeit-neue-praesentation-der-gegenwartskunst
URL:https://frauengeschichtsverein.de/termin/neue-praesentation-der-gegenwartskunst-im-museum-ludwig/
END:VEVENT
END:VCALENDAR