BEGIN:VCALENDAR
VERSION:2.0
PRODID:-//Kölner Frauengeschichtsverein e.V. - ECPv6.15.20//NONSGML v1.0//EN
CALSCALE:GREGORIAN
METHOD:PUBLISH
X-ORIGINAL-URL:https://frauengeschichtsverein.de
X-WR-CALDESC:Veranstaltungen für Kölner Frauengeschichtsverein e.V.
REFRESH-INTERVAL;VALUE=DURATION:PT1H
X-Robots-Tag:noindex
X-PUBLISHED-TTL:PT1H
BEGIN:VTIMEZONE
TZID:Europe/Berlin
BEGIN:DAYLIGHT
TZOFFSETFROM:+0100
TZOFFSETTO:+0200
TZNAME:CEST
DTSTART:20220327T010000
END:DAYLIGHT
BEGIN:STANDARD
TZOFFSETFROM:+0200
TZOFFSETTO:+0100
TZNAME:CET
DTSTART:20221030T010000
END:STANDARD
BEGIN:DAYLIGHT
TZOFFSETFROM:+0100
TZOFFSETTO:+0200
TZNAME:CEST
DTSTART:20230326T010000
END:DAYLIGHT
BEGIN:STANDARD
TZOFFSETFROM:+0200
TZOFFSETTO:+0100
TZNAME:CET
DTSTART:20231029T010000
END:STANDARD
BEGIN:DAYLIGHT
TZOFFSETFROM:+0100
TZOFFSETTO:+0200
TZNAME:CEST
DTSTART:20240331T010000
END:DAYLIGHT
BEGIN:STANDARD
TZOFFSETFROM:+0200
TZOFFSETTO:+0100
TZNAME:CET
DTSTART:20241027T010000
END:STANDARD
END:VTIMEZONE
BEGIN:VEVENT
DTSTART;TZID=Europe/Berlin:20230909T140000
DTEND;TZID=Europe/Berlin:20230909T140000
DTSTAMP:20260421T150455
CREATED:20230702T170824Z
LAST-MODIFIED:20240108T124906Z
UID:10000011-1694268000-1694268000@frauengeschichtsverein.de
SUMMARY:Zollstock entdecken
DESCRIPTION:… und die verborgene Frauengeschichte \n\n\n\n\n\nAuf unserem Spaziergang begegnen wir Spuren ehemaliger ukrainischer Zwangsarbeiterinnen\, konträren Erinnerungen an das Leben im Hochbunker und einer Frau aus dem NS-Widerstand. Es geht um die Entwicklung der „weiblichen“ Wohlfahrtspflege zur Sozialarbeit und um eine Bauhaussiedlung\, in der 1930 ein „Berufsfrauenhaus“ realisiert wurde. Wir hören von einer Lokalpolitikerin und einer großen Persönlichkeit der „alten“ Frauenbewegung.Gästeführerin: Ina Hoerner \n\n\n\nAnmeldung/Vorverkauf erforderlich!
URL:https://frauengeschichtsverein.de/termin/zollstock-entdecken/
LOCATION:Kölner Frauengeschichtsverein\, Höninger Weg 100A\, Köln\, 50969
CATEGORIES:Barrierefrei,Führung
ATTACH;FMTTYPE=image/jpeg:https://frauengeschichtsverein.de/wp-content/uploads/2023/07/800px-Ballonfahrt_Koeln_20130810_178.jpeg
GEO:50.9165362263;6.94172413441
X-APPLE-STRUCTURED-LOCATION;VALUE=URI;X-ADDRESS=Kölner Frauengeschichtsverein Höninger Weg 100A Köln 50969;X-APPLE-RADIUS=500;X-TITLE=Höninger Weg 100A:geo:6.94172413441,50.9165362263
END:VEVENT
END:VCALENDAR