BEGIN:VCALENDAR
VERSION:2.0
PRODID:-//Kölner Frauengeschichtsverein e.V. - ECPv6.15.20//NONSGML v1.0//EN
CALSCALE:GREGORIAN
METHOD:PUBLISH
X-WR-CALNAME:Kölner Frauengeschichtsverein e.V.
X-ORIGINAL-URL:https://frauengeschichtsverein.de
X-WR-CALDESC:Veranstaltungen für Kölner Frauengeschichtsverein e.V.
REFRESH-INTERVAL;VALUE=DURATION:PT1H
X-Robots-Tag:noindex
X-PUBLISHED-TTL:PT1H
BEGIN:VTIMEZONE
TZID:Europe/Berlin
BEGIN:DAYLIGHT
TZOFFSETFROM:+0100
TZOFFSETTO:+0200
TZNAME:CEST
DTSTART:20220327T010000
END:DAYLIGHT
BEGIN:STANDARD
TZOFFSETFROM:+0200
TZOFFSETTO:+0100
TZNAME:CET
DTSTART:20221030T010000
END:STANDARD
BEGIN:DAYLIGHT
TZOFFSETFROM:+0100
TZOFFSETTO:+0200
TZNAME:CEST
DTSTART:20230326T010000
END:DAYLIGHT
BEGIN:STANDARD
TZOFFSETFROM:+0200
TZOFFSETTO:+0100
TZNAME:CET
DTSTART:20231029T010000
END:STANDARD
BEGIN:DAYLIGHT
TZOFFSETFROM:+0100
TZOFFSETTO:+0200
TZNAME:CEST
DTSTART:20240331T010000
END:DAYLIGHT
BEGIN:STANDARD
TZOFFSETFROM:+0200
TZOFFSETTO:+0100
TZNAME:CET
DTSTART:20241027T010000
END:STANDARD
END:VTIMEZONE
BEGIN:VEVENT
DTSTART;TZID=Europe/Berlin:20231022T150000
DTEND;TZID=Europe/Berlin:20231022T170000
DTSTAMP:20260419T213354
CREATED:20230827T214413Z
LAST-MODIFIED:20230827T233951Z
UID:10000034-1697986800-1697994000@frauengeschichtsverein.de
SUMMARY:FrauenGeschichte hoch 11
DESCRIPTION:Von Safe Spaces für Mädchen bis Femizid an der Kirchenmauer\n\n\n\n\n\nIn dem Rundgang werden Informationen zu Ereignissen und Orten der Frauengeschichte vermittelt: Von der Biografie einer jüdischen Puppenspielerin bis zur Kritik an der Gründung eines kolonialen Frauenvereins\, vom Kampf für das Frauenwahlrecht bis zum Mahnmal für Lesben und Schwule\, von der Verfolgung von ‚zauberischen‚ Frauen u.a.m. Lasst euch überraschen!Gästeführerin: Irene Franken und Larissa Grebing \n\n\n\nTreffpunkt: Kölner Hbf\, Haupteingang\, Nähe Bodyshop
URL:https://frauengeschichtsverein.de/termin/frauengeschichte-hoch-11/
LOCATION:Hauptbahnhof Köln\, Bahnhofsvorplatz\, Hbf Haupteingang\, Nähe Bodyshop\, Köln\, 50667
CATEGORIES:Barrierefrei,Führung
ATTACH;FMTTYPE=image/jpeg:https://frauengeschichtsverein.de/wp-content/uploads/2023/08/Hbf-Bodyshop.jpg
GEO:50.9424720092;6.95800554218
X-APPLE-STRUCTURED-LOCATION;VALUE=URI;X-ADDRESS=Hauptbahnhof Köln Bahnhofsvorplatz Hbf Haupteingang Nähe Bodyshop Köln 50667;X-APPLE-RADIUS=500;X-TITLE=Bahnhofsvorplatz\, Hbf Haupteingang\, Nähe Bodyshop:geo:6.95800554218,50.9424720092
END:VEVENT
END:VCALENDAR