BEGIN:VCALENDAR
VERSION:2.0
PRODID:-//Kölner Frauengeschichtsverein e.V. - ECPv6.15.20//NONSGML v1.0//EN
CALSCALE:GREGORIAN
METHOD:PUBLISH
X-WR-CALNAME:Kölner Frauengeschichtsverein e.V.
X-ORIGINAL-URL:https://frauengeschichtsverein.de
X-WR-CALDESC:Veranstaltungen für Kölner Frauengeschichtsverein e.V.
REFRESH-INTERVAL;VALUE=DURATION:PT1H
X-Robots-Tag:noindex
X-PUBLISHED-TTL:PT1H
BEGIN:VTIMEZONE
TZID:Europe/Berlin
BEGIN:DAYLIGHT
TZOFFSETFROM:+0100
TZOFFSETTO:+0200
TZNAME:CEST
DTSTART:20230326T010000
END:DAYLIGHT
BEGIN:STANDARD
TZOFFSETFROM:+0200
TZOFFSETTO:+0100
TZNAME:CET
DTSTART:20231029T010000
END:STANDARD
BEGIN:DAYLIGHT
TZOFFSETFROM:+0100
TZOFFSETTO:+0200
TZNAME:CEST
DTSTART:20240331T010000
END:DAYLIGHT
BEGIN:STANDARD
TZOFFSETFROM:+0200
TZOFFSETTO:+0100
TZNAME:CET
DTSTART:20241027T010000
END:STANDARD
BEGIN:DAYLIGHT
TZOFFSETFROM:+0100
TZOFFSETTO:+0200
TZNAME:CEST
DTSTART:20250330T010000
END:DAYLIGHT
BEGIN:STANDARD
TZOFFSETFROM:+0200
TZOFFSETTO:+0100
TZNAME:CET
DTSTART:20251026T010000
END:STANDARD
END:VTIMEZONE
BEGIN:VEVENT
DTSTART;TZID=Europe/Berlin:20240706T140000
DTEND;TZID=Europe/Berlin:20240706T140000
DTSTAMP:20260425T184331
CREATED:20240525T170526Z
LAST-MODIFIED:20240630T112327Z
UID:10000106-1720274400-1720274400@frauengeschichtsverein.de
SUMMARY:Keusch oder romantisch? - Lesbengeschichte Teil 1
DESCRIPTION:Die Kunstsammlerin\, sechsfache Mutter und Lebensgefährtin von Frauen: Sibylle Mertens-Schaaffhausen \nSeit wann lieb(t)en Frauen gleichgeschlechtlich? Gab es früher nur die romantische Freundschaft oder auch eine sexuelle Praxis? Anhand von Bildmotiven wie der Freundinnenschar der Hl. Ursula umkreisen wir die Frage nach Frauenliebe: Bei Nonnen\, bei Frauen\, die Männerkleidung trugen und bei verheirateten Frauen\, die heiße Liebesbriefe an Frauen verfassten. Wir lesen aus alten Beginenregeln\, Gerichtsakten und Liebesbriefen vor. \nGästeführerin: Dr. Muriel Alejandra Gonzalez Athenas \nDigitaler Kartenkauf: https://www.qultor.de/veranstaltungen/keusch-oder-romantisch-lesbengeschichtliche-fuehrung-zu-frueheren-jahrhunderten
URL:https://frauengeschichtsverein.de/termin/keusch/
LOCATION:Ursulaplatz\, Köln\, Ursualplatz\, Köln\, NRW\, 50668\, Deutschland
CATEGORIES:Führung
END:VEVENT
END:VCALENDAR